BEGIN:VCALENDAR
VERSION:2.0
PRODID:-//Mairie de Juliénas - ECPv6.15.17.1//NONSGML v1.0//EN
CALSCALE:GREGORIAN
METHOD:PUBLISH
X-ORIGINAL-URL:https://www.julienas.fr
X-WR-CALDESC:Évènements pour Mairie de Juliénas
REFRESH-INTERVAL;VALUE=DURATION:PT1H
X-Robots-Tag:noindex
X-PUBLISHED-TTL:PT1H
BEGIN:VTIMEZONE
TZID:Europe/Paris
BEGIN:DAYLIGHT
TZOFFSETFROM:+0100
TZOFFSETTO:+0200
TZNAME:CEST
DTSTART:20240331T010000
END:DAYLIGHT
BEGIN:STANDARD
TZOFFSETFROM:+0200
TZOFFSETTO:+0100
TZNAME:CET
DTSTART:20241027T010000
END:STANDARD
BEGIN:DAYLIGHT
TZOFFSETFROM:+0100
TZOFFSETTO:+0200
TZNAME:CEST
DTSTART:20250330T010000
END:DAYLIGHT
BEGIN:STANDARD
TZOFFSETFROM:+0200
TZOFFSETTO:+0100
TZNAME:CET
DTSTART:20251026T010000
END:STANDARD
BEGIN:DAYLIGHT
TZOFFSETFROM:+0100
TZOFFSETTO:+0200
TZNAME:CEST
DTSTART:20260329T010000
END:DAYLIGHT
BEGIN:STANDARD
TZOFFSETFROM:+0200
TZOFFSETTO:+0100
TZNAME:CET
DTSTART:20261025T010000
END:STANDARD
END:VTIMEZONE
BEGIN:VEVENT
DTSTART;TZID=Europe/Paris:20250714T113000
DTEND;TZID=Europe/Paris:20250714T130000
DTSTAMP:20260425T175733
CREATED:20250204T133614Z
LAST-MODIFIED:20250204T133615Z
UID:59784-1752492600-1752498000@www.julienas.fr
SUMMARY:Fête Nationale
DESCRIPTION:
URL:https://www.julienas.fr/event/fete-nationale/
LOCATION:Mairie
CATEGORIES:Commune
END:VEVENT
BEGIN:VEVENT
DTSTART;TZID=Europe/Paris:20250714T120000
DTEND;TZID=Europe/Paris:20250714T170000
DTSTAMP:20260425T175733
CREATED:20250204T133744Z
LAST-MODIFIED:20250204T133829Z
UID:59786-1752494400-1752512400@www.julienas.fr
SUMMARY:Barbecue de la classe en 6
DESCRIPTION:
URL:https://www.julienas.fr/event/barbecue-de-la-classe-en-6/
LOCATION:Place de la Poste\, Juliénas\, Auvergne-Rhône-Alpes\, 69840\, France
CATEGORIES:Associations
END:VEVENT
BEGIN:VEVENT
DTSTART;TZID=Europe/Paris:20250726T190000
DTEND;TZID=Europe/Paris:20250726T210000
DTSTAMP:20260425T175733
CREATED:20250204T134046Z
LAST-MODIFIED:20250204T134047Z
UID:59789-1753556400-1753563600@www.julienas.fr
SUMMARY:Spectacle de rue
DESCRIPTION:
URL:https://www.julienas.fr/event/spectacle-de-rue/
LOCATION:Village de Juliénas\, Place de la poste\, Juliénas\, 69840\, France
CATEGORIES:Commune,Culture
END:VEVENT
END:VCALENDAR