BEGIN:VCALENDAR
VERSION:2.0
PRODID:-//Mairie de Juliénas - ECPv6.15.17.1//NONSGML v1.0//EN
CALSCALE:GREGORIAN
METHOD:PUBLISH
X-ORIGINAL-URL:https://www.julienas.fr
X-WR-CALDESC:Évènements pour Mairie de Juliénas
REFRESH-INTERVAL;VALUE=DURATION:PT1H
X-Robots-Tag:noindex
X-PUBLISHED-TTL:PT1H
BEGIN:VTIMEZONE
TZID:Europe/Paris
BEGIN:DAYLIGHT
TZOFFSETFROM:+0100
TZOFFSETTO:+0200
TZNAME:CEST
DTSTART:20250330T010000
END:DAYLIGHT
BEGIN:STANDARD
TZOFFSETFROM:+0200
TZOFFSETTO:+0100
TZNAME:CET
DTSTART:20251026T010000
END:STANDARD
BEGIN:DAYLIGHT
TZOFFSETFROM:+0100
TZOFFSETTO:+0200
TZNAME:CEST
DTSTART:20260329T010000
END:DAYLIGHT
BEGIN:STANDARD
TZOFFSETFROM:+0200
TZOFFSETTO:+0100
TZNAME:CET
DTSTART:20261025T010000
END:STANDARD
BEGIN:DAYLIGHT
TZOFFSETFROM:+0100
TZOFFSETTO:+0200
TZNAME:CEST
DTSTART:20270328T010000
END:DAYLIGHT
BEGIN:STANDARD
TZOFFSETFROM:+0200
TZOFFSETTO:+0100
TZNAME:CET
DTSTART:20271031T010000
END:STANDARD
END:VTIMEZONE
BEGIN:VEVENT
DTSTART;VALUE=DATE:20260426
DTEND;VALUE=DATE:20260427
DTSTAMP:20260425T215658
CREATED:20260420T142557Z
LAST-MODIFIED:20260420T142558Z
UID:61012-1777161600-1777247999@www.julienas.fr
SUMMARY:Randonnée du Sou des écoles
DESCRIPTION:Circuits 5 kms  (enfants)\, 12\, 18 et 23 kms.
URL:https://www.julienas.fr/event/randonnee-du-sou-des-ecoles-2/
LOCATION:salle polyvalente\, Juliénas\, 69840
CATEGORIES:Associations
END:VEVENT
BEGIN:VEVENT
DTSTART;TZID=Europe/Paris:20260426T100000
DTEND;TZID=Europe/Paris:20260426T120000
DTSTAMP:20260425T215658
CREATED:20260420T142851Z
LAST-MODIFIED:20260420T142851Z
UID:61014-1777197600-1777204800@www.julienas.fr
SUMMARY:Vente de bréchets
DESCRIPTION:Buvette sur place
URL:https://www.julienas.fr/event/vente-de-brechets/
LOCATION:Place de la Poste\, Juliénas\, Auvergne-Rhône-Alpes\, 69840\, France
CATEGORIES:Associations
END:VEVENT
END:VCALENDAR