BEGIN:VCALENDAR
VERSION:2.0
PRODID:-//Mairie de Juliénas - ECPv6.15.17.1//NONSGML v1.0//EN
CALSCALE:GREGORIAN
METHOD:PUBLISH
X-WR-CALNAME:Mairie de Juliénas
X-ORIGINAL-URL:https://www.julienas.fr
X-WR-CALDESC:Évènements pour Mairie de Juliénas
REFRESH-INTERVAL;VALUE=DURATION:PT1H
X-Robots-Tag:noindex
X-PUBLISHED-TTL:PT1H
BEGIN:VTIMEZONE
TZID:Europe/Paris
BEGIN:DAYLIGHT
TZOFFSETFROM:+0100
TZOFFSETTO:+0200
TZNAME:CEST
DTSTART:20240331T010000
END:DAYLIGHT
BEGIN:STANDARD
TZOFFSETFROM:+0200
TZOFFSETTO:+0100
TZNAME:CET
DTSTART:20241027T010000
END:STANDARD
BEGIN:DAYLIGHT
TZOFFSETFROM:+0100
TZOFFSETTO:+0200
TZNAME:CEST
DTSTART:20250330T010000
END:DAYLIGHT
BEGIN:STANDARD
TZOFFSETFROM:+0200
TZOFFSETTO:+0100
TZNAME:CET
DTSTART:20251026T010000
END:STANDARD
BEGIN:DAYLIGHT
TZOFFSETFROM:+0100
TZOFFSETTO:+0200
TZNAME:CEST
DTSTART:20260329T010000
END:DAYLIGHT
BEGIN:STANDARD
TZOFFSETFROM:+0200
TZOFFSETTO:+0100
TZNAME:CET
DTSTART:20261025T010000
END:STANDARD
END:VTIMEZONE
BEGIN:VEVENT
DTSTART;VALUE=DATE:20251019
DTEND;VALUE=DATE:20251020
DTSTAMP:20260425T133153
CREATED:20250916T144640Z
LAST-MODIFIED:20250916T144640Z
UID:60641-1760832000-1760918399@www.julienas.fr
SUMMARY:Bénédiction des Motards
DESCRIPTION:
URL:https://www.julienas.fr/event/benediction-des-motards/
LOCATION:Place de la Poste\, Juliénas\, Auvergne-Rhône-Alpes\, 69840\, France
ORGANIZER;CN="MC Juli%C3%A9n'AS":MAILTO:motoclubjuliénas@hotmail.com
END:VEVENT
END:VCALENDAR