BEGIN:VCALENDAR
VERSION:2.0
PRODID:-//Mairie de Juliénas - ECPv6.15.17.1//NONSGML v1.0//EN
CALSCALE:GREGORIAN
METHOD:PUBLISH
X-ORIGINAL-URL:https://www.julienas.fr
X-WR-CALDESC:Évènements pour Mairie de Juliénas
REFRESH-INTERVAL;VALUE=DURATION:PT1H
X-Robots-Tag:noindex
X-PUBLISHED-TTL:PT1H
BEGIN:VTIMEZONE
TZID:Europe/Paris
BEGIN:DAYLIGHT
TZOFFSETFROM:+0100
TZOFFSETTO:+0200
TZNAME:CEST
DTSTART:20240331T010000
END:DAYLIGHT
BEGIN:STANDARD
TZOFFSETFROM:+0200
TZOFFSETTO:+0100
TZNAME:CET
DTSTART:20241027T010000
END:STANDARD
BEGIN:DAYLIGHT
TZOFFSETFROM:+0100
TZOFFSETTO:+0200
TZNAME:CEST
DTSTART:20250330T010000
END:DAYLIGHT
BEGIN:STANDARD
TZOFFSETFROM:+0200
TZOFFSETTO:+0100
TZNAME:CET
DTSTART:20251026T010000
END:STANDARD
BEGIN:DAYLIGHT
TZOFFSETFROM:+0100
TZOFFSETTO:+0200
TZNAME:CEST
DTSTART:20260329T010000
END:DAYLIGHT
BEGIN:STANDARD
TZOFFSETFROM:+0200
TZOFFSETTO:+0100
TZNAME:CET
DTSTART:20261025T010000
END:STANDARD
END:VTIMEZONE
BEGIN:VEVENT
DTSTART;TZID=Europe/Paris:20250308T080000
DTEND;TZID=Europe/Paris:20250308T140000
DTSTAMP:20260426T011219
CREATED:20250131T141556Z
LAST-MODIFIED:20250131T144446Z
UID:59735-1741420800-1741442400@www.julienas.fr
SUMMARY:Ouverture de la pêche
DESCRIPTION:Matinée tripes \nBuvette
URL:https://www.julienas.fr/event/ouverture-de-la-peche/
LOCATION:parking zone artisanale\, Parking de la zone artisanale\, Juliénas\, Sélectionner un État :\, 69840\, France
CATEGORIES:Associations
END:VEVENT
END:VCALENDAR